BEGIN:VCALENDAR
VERSION:2.0
PRODID:-//Mindbodism - ECPv6.15.10//NONSGML v1.0//EN
CALSCALE:GREGORIAN
METHOD:PUBLISH
X-WR-CALNAME:Mindbodism
X-ORIGINAL-URL:https://staging.mindbodism.com
X-WR-CALDESC:Events for Mindbodism
REFRESH-INTERVAL;VALUE=DURATION:PT1H
X-Robots-Tag:noindex
X-PUBLISHED-TTL:PT1H
BEGIN:VTIMEZONE
TZID:Europe/Tallinn
BEGIN:DAYLIGHT
TZOFFSETFROM:+0200
TZOFFSETTO:+0300
TZNAME:EEST
DTSTART:20240331T010000
END:DAYLIGHT
BEGIN:STANDARD
TZOFFSETFROM:+0300
TZOFFSETTO:+0200
TZNAME:EET
DTSTART:20241027T010000
END:STANDARD
BEGIN:DAYLIGHT
TZOFFSETFROM:+0200
TZOFFSETTO:+0300
TZNAME:EEST
DTSTART:20250330T010000
END:DAYLIGHT
BEGIN:STANDARD
TZOFFSETFROM:+0300
TZOFFSETTO:+0200
TZNAME:EET
DTSTART:20251026T010000
END:STANDARD
BEGIN:DAYLIGHT
TZOFFSETFROM:+0200
TZOFFSETTO:+0300
TZNAME:EEST
DTSTART:20260329T010000
END:DAYLIGHT
BEGIN:STANDARD
TZOFFSETFROM:+0300
TZOFFSETTO:+0200
TZNAME:EET
DTSTART:20261025T010000
END:STANDARD
BEGIN:DAYLIGHT
TZOFFSETFROM:+0200
TZOFFSETTO:+0300
TZNAME:EEST
DTSTART:20270328T010000
END:DAYLIGHT
BEGIN:STANDARD
TZOFFSETFROM:+0300
TZOFFSETTO:+0200
TZNAME:EET
DTSTART:20271031T010000
END:STANDARD
END:VTIMEZONE
BEGIN:VTIMEZONE
TZID:UTC
BEGIN:STANDARD
TZOFFSETFROM:+0000
TZOFFSETTO:+0000
TZNAME:UTC
DTSTART:20240101T000000
END:STANDARD
END:VTIMEZONE
BEGIN:VTIMEZONE
TZID:Europe/Paris
BEGIN:DAYLIGHT
TZOFFSETFROM:+0100
TZOFFSETTO:+0200
TZNAME:CEST
DTSTART:20240331T010000
END:DAYLIGHT
BEGIN:STANDARD
TZOFFSETFROM:+0200
TZOFFSETTO:+0100
TZNAME:CET
DTSTART:20241027T010000
END:STANDARD
BEGIN:DAYLIGHT
TZOFFSETFROM:+0100
TZOFFSETTO:+0200
TZNAME:CEST
DTSTART:20250330T010000
END:DAYLIGHT
BEGIN:STANDARD
TZOFFSETFROM:+0200
TZOFFSETTO:+0100
TZNAME:CET
DTSTART:20251026T010000
END:STANDARD
BEGIN:DAYLIGHT
TZOFFSETFROM:+0100
TZOFFSETTO:+0200
TZNAME:CEST
DTSTART:20260329T010000
END:DAYLIGHT
BEGIN:STANDARD
TZOFFSETFROM:+0200
TZOFFSETTO:+0100
TZNAME:CET
DTSTART:20261025T010000
END:STANDARD
END:VTIMEZONE
BEGIN:VEVENT
DTSTART;TZID=Europe/Tallinn:20251205T080000
DTEND;TZID=Europe/Tallinn:20260108T230000
DTSTAMP:20260423T194259
CREATED:20250901T210243Z
LAST-MODIFIED:20260108T075456Z
UID:10000327-1764921600-1767913200@staging.mindbodism.com
SUMMARY:Unofficial Mindvalley University Tallinn 2026 Community
DESCRIPTION:Who is going to Mindvalley University in Tallinn? RSVP and join our WhatsApp group so we can c0nnect and socialise organise parties and events while we are there. We are already 244 members and growing…. \nThis RSVP is independently organized by participants of Mindvalley University and is not affiliated with or endorsed by Mindvalley or its parent company \n 
URL:https://staging.mindbodism.com/event/unofficial-mindvalley-university-tallinn-2026-community/
CATEGORIES:*,In-Person Event
ATTACH;FMTTYPE=image/png:https://staging.mindbodism.com/wp-content/uploads/2025/09/Screenshot-2025-09-01-at-22.01.16.png
END:VEVENT
BEGIN:VEVENT
DTSTART;TZID=UTC:20250804T080000
DTEND;TZID=UTC:20250817T170000
DTSTAMP:20260423T194259
CREATED:20250302T130359Z
LAST-MODIFIED:20250726T020852Z
UID:10000108-1754294400-1755450000@staging.mindbodism.com
SUMMARY:Unofficial Mindvalley University Amsterdam 2025 Community
DESCRIPTION:Who is going to Mindvalley University in Amsterdam? RSVP and join our WhatsApp group so we can c0nnect and socialise organise parties and events while we are there. We are already 53 members and growing…. \nThis RSVP is independently organized by participants of Mindvalley University and is not affiliated with or endorsed by Mindvalley or its parent company \n 
URL:https://staging.mindbodism.com/event/mindvalley-university-amsterdam-2025/
LOCATION:Mindvalley University\, Damrak 243\, Amsterdam\, Amsterdam\, 1012 ZJ\, Netherlands
CATEGORIES:*
ATTACH;FMTTYPE=image/png:https://staging.mindbodism.com/wp-content/uploads/2025/03/Screenshot-2025-04-09-at-08.46.25.png
END:VEVENT
BEGIN:VEVENT
DTSTART;TZID=Europe/Paris:20250601T160000
DTEND;TZID=Europe/Paris:20250601T210000
DTSTAMP:20260423T194259
CREATED:20250528T142543Z
LAST-MODIFIED:20250528T142543Z
UID:10000133-1748793600-1748811600@staging.mindbodism.com
SUMMARY:Highlights from Manifesting Summit (MV)
DESCRIPTION:Highlights from Manifesting Summit (MV)\n\n\nWhat You’ll Experience in This LIVE Highlights Event: \n✨ Tap Into the “Lucky Flow” & Unlock SynchronicityDiscover how to align with invisible forces that bring joy\, success\, and opportunity into your life—featuring the extraordinary manifestation journey of Vishen\, founder of Mindvalley. \n💸 Transform Knowledge Into Digital WealthJoin John Lee\, renowned entrepreneur\, as he reveals how to convert your skills and story into scalable income streams that create lasting freedom in today’s digital world. \n🌀 Manifest Through Surrender\, Not StruggleRegan shares her Surrendered Manifestation method—teaching you how to become the energy of your desires so they flow to you naturally\, without burnout or effort. \n🔮 Activate Your “Spiritual Technology” for Limitless ReceivingGhiyam unveils the unseen codes of manifestation—empowering you to shift into a magnetic frequency where love\, wealth\, and success are drawn to you with ease. \n🌌 Access the Quantum Field with Dr. Joe DispenzaStep into a powerful session where Dr. Joe guides you beyond your current identity and into a new reality—one shaped by possibility\, not limitation. \n🔥 Reinvent Manifestation with Gwyneth PaltrowIn a heart-centered fireside chat\, Gwyneth shares her evolution with manifestation—revealing how to harmonize beauty\, intuition\, and purpose without sacrifice. \n🌟 Master the Art of Manifestation with VishenIn the closing session\, Vishen returns to teach a practical daily method to accelerate your manifestations and bring your boldest dreams to life—faster than ever before. \n\nBy the end of this live experience…You’ll walk away with powerful tools\, proven techniques\, and plug-and-play systems to consistently manifest what you desire—personally\, professionally\, and spiritually. \nWhether you’re aiming to increase your wealth\, live your life’s purpose\, or attract deeper joy and fulfillment in 2025\, this event will show you exactly how to get from where you are… to where you want to be. \nEasier\, faster—and with more fun—than you ever imagined. \n\n\nREGISTER HERE\n https://www.mindvalley.com/summit/manifesting/highlights \n\n\nThis event is organized independently. Mindbodism is not affiliated with\, responsible for\, or endorsing the event\, its organizers\, or its content. Participation is voluntary and at your own discretion. \nRSVP BELOW  to Join the Mindbodism Manifestation What’sApp Group\n 
URL:https://staging.mindbodism.com/event/highlights-from-manifesting-summit-mv/
CATEGORIES:*
ATTACH;FMTTYPE=image/png:https://staging.mindbodism.com/wp-content/uploads/2025/05/Screenshot-2025-05-28-at-15.24.32.png
END:VEVENT
BEGIN:VEVENT
DTSTART;TZID=Europe/Paris:20250517T180000
DTEND;TZID=Europe/Paris:20250519T233000
DTSTAMP:20260423T194259
CREATED:20250509T173901Z
LAST-MODIFIED:20250509T173901Z
UID:10000125-1747504800-1747697400@staging.mindbodism.com
SUMMARY:The Manifesting Summit 2025
DESCRIPTION:Redesign Your Reality: Where Science\, Spirit & Strategy Converge \nWhat if manifesting wasn’t just about good vibes and positive thinking? \nWhat if it was about reprogramming your subconscious\, dissolving inner resistance\, and accelerating your timeline to the life you’re truly meant to live? \nAt the Manifesting Summit 2025\, you’ll gain access to the real\, practical mechanics of manifestation—from subconscious rewiring to quantum creation. This is where modern science meets ancient wisdom—guided by the world’s most impactful teachers. \nThis isn’t about wishful thinking or dream boards alone. \nIt’s about identity-level transformation\, energetic mastery\, and aligned action that bridges the gap between where you are and where you know you’re meant to be. \nJoin a powerhouse lineup of globally renowned mentors who’ve helped millions—including CEOs\, healers\, artists\, and spiritual seekers—shift from force to flow\, from stuck to unstoppable. \n\nLearn from icons like:\n🧠 Vishen Lakhiani – Founder of Mindvalley\, certified Silva Method instructor\, and pioneer of transformational learning\, guiding over 6 million students in unlocking altered states of consciousness for real-world impact. \n🧬 Dr Joe Dispenza – Groundbreaking researcher in neuroscience and personal transformation\, revealing how to rewire your brain\, heal your body\, and create measurable miracles through intention and frequency. \n💫 Roxie Nafousi – Bestselling author of Manifest\, featured in Vogue and Forbes\, known for fusing science-backed mindset tools with emotional healing to catalyze radical self-worth and manifestation power. \n🌍 Regan Hillyer – Globally celebrated manifestation mentor\, working with elite entrepreneurs and changemakers to activate limitless wealth\, confidence\, and impact. \nWhat Makes This Summit Different?\nMost manifesting teachings skim the surface. \nThis Summit dives deep into the 10 core blocks that keep even the most conscious creators stuck\, including: \n\n\n🧱 Upper Limits – Why we sabotage success and how to dissolve internal ceilings. \n\n\n🧠 Subconscious Brules – Hidden beliefs passed down by society that block your desires. \n\n\n💔 Emotional Mismatch – The silent inner resistance that says “I want it” and “I don’t deserve it” at the same time. \n\n\n😰 Fear of Expansion – Why abundance can trigger pressure\, anxiety\, or avoidance—and how to reframe it. \n\n\n🌊 The Surrender Paradox – Releasing control while still claiming your outcome. \n\n\n🚫 Flawed Visualization – When you “wish from lack” and unintentionally create more of what you don’t want. \n\n\nThese aren’t abstract ideas. They’re the real patterns that block momentum for millions—and you’ll learn exactly how to clear them in just 48 hours. \nIf you’re ready to stop chasing and start magnetizing…If you’re ready to turn your vision into embodiment…If you’re ready to co-create with the Universe at your highest level… \nThe Manifesting Summit 2025 is your portal. \nRegister below\nhttps://www.mindvalley.com/summit/manifesting/members?promo=email_ap29vnl_mvm&tr=true%3Futm_source%3Demail_ap29vnl_mvm&utm_campaign=launch_mms_apr_2025&utm_content=email_ap29vnl_mvm&utm_medium=sp&otag=email_ap29vnl_mvm&otag=launch_mms_apr_2025&lid=9d3e64e8nbf8 \nRSVP below to add you to the manifesting whatsapp group and share notes\, discussions etc.
URL:https://staging.mindbodism.com/event/the-manifesting-summit-2025/
ATTACH;FMTTYPE=image/jpeg:https://staging.mindbodism.com/wp-content/uploads/2025/05/3DAC2EC1-ACBD-49AA-9E34-BFBCEEB737A9.jpg
END:VEVENT
END:VCALENDAR