BEGIN:VCALENDAR
VERSION:2.0
PRODID:-//Mindbodism - ECPv6.15.10//NONSGML v1.0//EN
CALSCALE:GREGORIAN
METHOD:PUBLISH
X-ORIGINAL-URL:https://staging.mindbodism.com
X-WR-CALDESC:Events for Mindbodism
REFRESH-INTERVAL;VALUE=DURATION:PT1H
X-Robots-Tag:noindex
X-PUBLISHED-TTL:PT1H
BEGIN:VTIMEZONE
TZID:Europe/Paris
BEGIN:DAYLIGHT
TZOFFSETFROM:+0100
TZOFFSETTO:+0200
TZNAME:CEST
DTSTART:20240331T010000
END:DAYLIGHT
BEGIN:STANDARD
TZOFFSETFROM:+0200
TZOFFSETTO:+0100
TZNAME:CET
DTSTART:20241027T010000
END:STANDARD
BEGIN:DAYLIGHT
TZOFFSETFROM:+0100
TZOFFSETTO:+0200
TZNAME:CEST
DTSTART:20250330T010000
END:DAYLIGHT
BEGIN:STANDARD
TZOFFSETFROM:+0200
TZOFFSETTO:+0100
TZNAME:CET
DTSTART:20251026T010000
END:STANDARD
BEGIN:DAYLIGHT
TZOFFSETFROM:+0100
TZOFFSETTO:+0200
TZNAME:CEST
DTSTART:20260329T010000
END:DAYLIGHT
BEGIN:STANDARD
TZOFFSETFROM:+0200
TZOFFSETTO:+0100
TZNAME:CET
DTSTART:20261025T010000
END:STANDARD
END:VTIMEZONE
BEGIN:VTIMEZONE
TZID:Asia/Dubai
BEGIN:STANDARD
TZOFFSETFROM:+0400
TZOFFSETTO:+0400
TZNAME:+04
DTSTART:20240101T000000
END:STANDARD
END:VTIMEZONE
BEGIN:VEVENT
DTSTART;TZID=Europe/Paris:20250518T130000
DTEND;TZID=Europe/Paris:20250518T143000
DTSTAMP:20260424T181555
CREATED:20250506T074114Z
LAST-MODIFIED:20250506T074114Z
UID:10000121-1747573200-1747578600@staging.mindbodism.com
SUMMARY:AHA Moment Call: Steve Jobs Product Blueprint
DESCRIPTION:AHA Moment Call: Steve Jobs Product Blueprint\nNO DOWNLOADS. NO REPLAYS. 45 MIN \nLIVE REVELATION + 45 MIN CUSTOM Q&A. \nTHERE’S A HIDDEN THINKING SYSTEM \nBEHIND EVERY APPLE HIT\, REVEALED \nLIVE\, NEVER SHARED IN ANY PDF. \nSUNDAY\, 18 MAY 2025 \n4 PM ( DUBAI ) / 7 PM ( JAKARTA )/ \n7 AM ( NEW YORK ) / 2 PM ( BERLIN ) \n  \nWHAT YOU’LL EXPERIENCE:\n• LIVE PRODUCT BLUEPRINT (45 MIN): I’LL EXPOSE APPLE’S 3 STEP \nSYSTEM\, BRAND FILTER LIKE APPLE\, OUT OF THE BOX SOURCING & \nDESIGN\, MOMENT ZERO ARCHITECTURE\, AND SHOW YOU EXACTLY \nHOW IT WORKS. \n• CUSTOM AHA Q&A (45 MIN): BRING YOUR OWN PRODUCT OR \nSERVICE. WATCH ME APPLY STEVE JOBS’S THINKING LIVE TO YOUR \nCASE\, AND WALK AWAY WITH AT LEAST ONE BREAKTHROUGH THAT \nCAN CHANGE YOUR TRAJECTORY. \nWHY YOU MUST ATTEND: \n• INTERACTIVE WORKSHOP\, NO SLIDES TO SKIM LATER. \n• ONLY ATTENDEES GET A FREE 1:1 MINI CONSULT (VALUE $2K). \n• SEATS CAPPED AT 100. NO REPLAYS. NO EXCEPTIONS.
URL:https://staging.mindbodism.com/event/aha-moment-call-steve-jobs-product-blueprint/
ATTACH;FMTTYPE=image/png:https://staging.mindbodism.com/wp-content/uploads/2025/05/Screenshot-2025-05-06-at-08.35.01.png
ORGANIZER;CN="Tarkan Salar":MAILTO:Tarkan@canggus.com
END:VEVENT
BEGIN:VEVENT
DTSTART;TZID=Europe/Paris:20250504T130000
DTEND;TZID=Europe/Paris:20250504T143000
DTSTAMP:20260424T181556
CREATED:20250424T132341Z
LAST-MODIFIED:20250428T114911Z
UID:10000117-1746363600-1746369000@staging.mindbodism.com
SUMMARY:Your AHA Moment "Get the Breakthrough You Need"
DESCRIPTION:“What happens when a burnt-out entrepreneur finally gets a real strategy ?”\n\nThis isn’t theory. This is clarity\, direction\, and momentum for people who are done wasting time.\n\nEVENT DETAILS :\nCost : FREE\n🗓 Sunday\, May 4\, 2025\n📍 Live Zoom Session\n🕙 4 PM ( DUBAI ) / 7 PM ( JAKARTA )/ 7 AM ( NEW YORK ) / 2 PM ( BERLIN )\n\n\nSpots are limited. Reserve your seat now:\nhttps://chat.whatsapp.com/IoDz76tKa8u9uLkr9zbNdV\n\n\nWhat You’ll Walk Away With:\n• Clarity on your #1 bottleneck\n• Your AHA moment that could 10x your progress\n• A clear action plan to move forward\n• The blueprint to create your own Blue Ocean strategy\n• Access to the same insights that helped scale to $200M and $40M\n\n\nWhy This Is Different:\n• No fluff. No pitches. Just pure value.\n• Led by me\, Tarkan Salar — 28 years in entrepreneurship\n• Built an 8-figure fashion business\n• Created 2 world-first inventions\n• Worked with Louis Vuitton\, Zara\, Diesel & more\n• 12\,000+ hours in mastery and mindset since 2020\n• Helped founders unlock $200M+ in hidden value\n\n\nThe Only Catch?\nAll I ask is an honest review. That’s it. This session will be recorded\, and short clips may be shared on social media (no sensitive info\, don’t worry).\n\nThis will NOT be repurposed or repeated.\nhttps://chat.whatsapp.com/IoDz76tKa8u9uLkr9zbNdV
URL:https://staging.mindbodism.com/event/your-aha-moment-get-the-breakthrough-you-need-2/
CATEGORIES:*
ATTACH;FMTTYPE=image/jpeg:https://staging.mindbodism.com/wp-content/uploads/2025/04/7529794b-4bc5-481c-a1ad-6774d8f338a4.jpg
ORGANIZER;CN="Tarkan Salar":MAILTO:Tarkan@canggus.com
END:VEVENT
BEGIN:VEVENT
DTSTART;TZID=Asia/Dubai:20250413T170000
DTEND;TZID=Asia/Dubai:20250413T180000
DTSTAMP:20260424T181556
CREATED:20250412T060222Z
LAST-MODIFIED:20250412T060616Z
UID:10000112-1744563600-1744567200@staging.mindbodism.com
SUMMARY:Your AHA Moment "Get the Breakthrough You Need"
DESCRIPTION:Will AI\, Wars\, Markets Crash Breaks You or Are You Unstoppable ?\n\nThis isn’t theory. This is clarity\, direction\, and momentum for people who are done wasting time.\n\nEVENT DETAILS :\nCost : FREE\n🗓 Sunday\, April 13\, 2025\n📍 Live Zoom Session\n🕙 5 PM – 6 PM ( DUBAI ) / 8 PM – 10 PM ( JAKARTA )/ 8 AM – 9 AM ( NEW YORK ) / 3 PM – 5 PM ( BERLIN )\n\nSpots are limited. Reserve your seat now:\nhttps://chat.whatsapp.com/IoDz76tKa8u9uLkr9zbNdV\n\nWhat You’ll Walk Away With:\n• Clarity on your #1 bottleneck\n• Your AHA moment that could 10x your progress\n• A clear action plan to move forward\n• The blueprint to create your own Blue Ocean strategy\n• Access to the same insights that helped scale to $200M and $40M\n\nWhy This Is Different:\n• No fluff. No pitches. Just pure value.\n• Led by me\, Tarkan Salar — 28 years in entrepreneurship\n• Built an 8-figure fashion business\n• Created 2 world-first inventions\n• Worked with Louis Vuitton\, Zara\, Diesel & more\n• 12\,000+ hours in mastery and mindset since 2020\n• Helped founders unlock $200M+ in hidden value\n\nThe Only Catch?\nAll I ask is an honest review. That’s it. This session will be recorded\, and short clips may be shared on social media (no sensitive info\, don’t worry).\n\nThis will NOT be repurposed or repeated.\n\nhttps://chat.whatsapp.com/IoDz76tKa8u9uLkr9zbNdV
URL:https://staging.mindbodism.com/event/your-aha-moment-get-the-breakthrough-you-need/
LOCATION:Zoom meeting\, Link will be sent before the session
ATTACH;FMTTYPE=image/jpeg:https://staging.mindbodism.com/wp-content/uploads/2025/04/IMG_8231.jpg
ORGANIZER;CN="Tarkan Salar":MAILTO:Tarkan@canggus.com
END:VEVENT
END:VCALENDAR