BEGIN:VCALENDAR
VERSION:2.0
PRODID:-//Mindbodism - ECPv6.15.10//NONSGML v1.0//EN
CALSCALE:GREGORIAN
METHOD:PUBLISH
X-WR-CALNAME:Mindbodism
X-ORIGINAL-URL:https://staging.mindbodism.com
X-WR-CALDESC:Events for Mindbodism
REFRESH-INTERVAL;VALUE=DURATION:PT1H
X-Robots-Tag:noindex
X-PUBLISHED-TTL:PT1H
BEGIN:VTIMEZONE
TZID:Europe/Paris
BEGIN:DAYLIGHT
TZOFFSETFROM:+0100
TZOFFSETTO:+0200
TZNAME:CEST
DTSTART:20240331T010000
END:DAYLIGHT
BEGIN:STANDARD
TZOFFSETFROM:+0200
TZOFFSETTO:+0100
TZNAME:CET
DTSTART:20241027T010000
END:STANDARD
BEGIN:DAYLIGHT
TZOFFSETFROM:+0100
TZOFFSETTO:+0200
TZNAME:CEST
DTSTART:20250330T010000
END:DAYLIGHT
BEGIN:STANDARD
TZOFFSETFROM:+0200
TZOFFSETTO:+0100
TZNAME:CET
DTSTART:20251026T010000
END:STANDARD
BEGIN:DAYLIGHT
TZOFFSETFROM:+0100
TZOFFSETTO:+0200
TZNAME:CEST
DTSTART:20260329T010000
END:DAYLIGHT
BEGIN:STANDARD
TZOFFSETFROM:+0200
TZOFFSETTO:+0100
TZNAME:CET
DTSTART:20261025T010000
END:STANDARD
END:VTIMEZONE
BEGIN:VTIMEZONE
TZID:Asia/Dubai
BEGIN:STANDARD
TZOFFSETFROM:+0400
TZOFFSETTO:+0400
TZNAME:+04
DTSTART:20240101T000000
END:STANDARD
END:VTIMEZONE
BEGIN:VTIMEZONE
TZID:Europe/London
BEGIN:DAYLIGHT
TZOFFSETFROM:+0000
TZOFFSETTO:+0100
TZNAME:BST
DTSTART:20220327T010000
END:DAYLIGHT
BEGIN:STANDARD
TZOFFSETFROM:+0100
TZOFFSETTO:+0000
TZNAME:GMT
DTSTART:20221030T010000
END:STANDARD
BEGIN:DAYLIGHT
TZOFFSETFROM:+0000
TZOFFSETTO:+0100
TZNAME:BST
DTSTART:20230326T010000
END:DAYLIGHT
BEGIN:STANDARD
TZOFFSETFROM:+0100
TZOFFSETTO:+0000
TZNAME:GMT
DTSTART:20231029T010000
END:STANDARD
BEGIN:DAYLIGHT
TZOFFSETFROM:+0000
TZOFFSETTO:+0100
TZNAME:BST
DTSTART:20240331T010000
END:DAYLIGHT
BEGIN:STANDARD
TZOFFSETFROM:+0100
TZOFFSETTO:+0000
TZNAME:GMT
DTSTART:20241027T010000
END:STANDARD
BEGIN:DAYLIGHT
TZOFFSETFROM:+0000
TZOFFSETTO:+0100
TZNAME:BST
DTSTART:20250330T010000
END:DAYLIGHT
BEGIN:STANDARD
TZOFFSETFROM:+0100
TZOFFSETTO:+0000
TZNAME:GMT
DTSTART:20251026T010000
END:STANDARD
END:VTIMEZONE
BEGIN:VEVENT
DTSTART;TZID=Europe/Paris:20250429T183000
DTEND;TZID=Europe/Paris:20250429T193000
DTSTAMP:20260425T195947
CREATED:20250415T161101Z
LAST-MODIFIED:20250429T164028Z
UID:10000113-1745951400-1745955000@staging.mindbodism.com
SUMMARY:Future Human Speed Networking
DESCRIPTION:Future Human Speed Networking — Powered by Mindbodism\nWhy join? \n\n\nExpand your global network in under an hour \n\n\nMeet like-minded visionaries on a mission \n\n\nExchange ideas\, inspiration\, and opportunities \n\n\nBuild relationships that go beyond business \n\n\nAGENDA \n\nIntroduction of the event\nProfile sharing and speed networking\nGlobal events that you can attend\nLearn about how you can transform the lives of 1 Billion people\n\nDate: 29 April 2025 \nTime: \n\n\n18:30 London \n\n\n13:30 New York \n\n\n21:30 Dubai \nLocation: Online on Zoom \nRSVP: https://staging.mindbodism.com/event/future-human-speed-networking/ \n\n\nJoin us for a fast-paced\, high-energy Speed Networking event designed for heart-centered leaders\, entrepreneurs\, coaches\, and changemakers who are ready to connect with the Future Human community. \nThis isn’t your typical networking session. It’s curated for meaningful\, soul-aligned connections in a dynamic format that respects your time and elevates your vibe. \nShow up as you are. Bring your passion. Leave with momentum. \nLet’s create the future—together.
URL:https://staging.mindbodism.com/event/future-human-speed-networking/
LOCATION:Zoom meeting\, Link will be sent before the session
CATEGORIES:*
ATTACH;FMTTYPE=image/png:https://staging.mindbodism.com/wp-content/uploads/2025/04/Screenshot-2025-04-15-at-18.05.10.png
ORGANIZER;CN="Mindbodism":MAILTO:hello@staging.mindbodism.com
END:VEVENT
BEGIN:VEVENT
DTSTART;TZID=Asia/Dubai:20250413T170000
DTEND;TZID=Asia/Dubai:20250413T180000
DTSTAMP:20260425T195947
CREATED:20250412T060222Z
LAST-MODIFIED:20250412T060616Z
UID:10000112-1744563600-1744567200@staging.mindbodism.com
SUMMARY:Your AHA Moment "Get the Breakthrough You Need"
DESCRIPTION:Will AI\, Wars\, Markets Crash Breaks You or Are You Unstoppable ?\n\nThis isn’t theory. This is clarity\, direction\, and momentum for people who are done wasting time.\n\nEVENT DETAILS :\nCost : FREE\n🗓 Sunday\, April 13\, 2025\n📍 Live Zoom Session\n🕙 5 PM – 6 PM ( DUBAI ) / 8 PM – 10 PM ( JAKARTA )/ 8 AM – 9 AM ( NEW YORK ) / 3 PM – 5 PM ( BERLIN )\n\nSpots are limited. Reserve your seat now:\nhttps://chat.whatsapp.com/IoDz76tKa8u9uLkr9zbNdV\n\nWhat You’ll Walk Away With:\n• Clarity on your #1 bottleneck\n• Your AHA moment that could 10x your progress\n• A clear action plan to move forward\n• The blueprint to create your own Blue Ocean strategy\n• Access to the same insights that helped scale to $200M and $40M\n\nWhy This Is Different:\n• No fluff. No pitches. Just pure value.\n• Led by me\, Tarkan Salar — 28 years in entrepreneurship\n• Built an 8-figure fashion business\n• Created 2 world-first inventions\n• Worked with Louis Vuitton\, Zara\, Diesel & more\n• 12\,000+ hours in mastery and mindset since 2020\n• Helped founders unlock $200M+ in hidden value\n\nThe Only Catch?\nAll I ask is an honest review. That’s it. This session will be recorded\, and short clips may be shared on social media (no sensitive info\, don’t worry).\n\nThis will NOT be repurposed or repeated.\n\nhttps://chat.whatsapp.com/IoDz76tKa8u9uLkr9zbNdV
URL:https://staging.mindbodism.com/event/your-aha-moment-get-the-breakthrough-you-need/
LOCATION:Zoom meeting\, Link will be sent before the session
ATTACH;FMTTYPE=image/jpeg:https://staging.mindbodism.com/wp-content/uploads/2025/04/IMG_8231.jpg
ORGANIZER;CN="Tarkan Salar":MAILTO:Tarkan@canggus.com
END:VEVENT
BEGIN:VEVENT
DTSTART;TZID=Europe/London:20240621T120000
DTEND;TZID=Europe/London:20240621T130000
DTSTAMP:20260425T195947
CREATED:20231127T002247Z
LAST-MODIFIED:20240618T142333Z
UID:10000045-1718971200-1718974800@staging.mindbodism.com
SUMMARY:VIRTUAL: Yoga Beginner Class with Akhilesh
DESCRIPTION:Join this Yoga Beginner Class to improve Posture and Flexibility. Your instructor for this class is Akhilesh Shailendra. \n  \nHOW TO BOOK? \nFor LSEG Employees just RSVP it is free \nAny issues please email hello@staging.mindbodism.com \n  \n  \n 
URL:https://staging.mindbodism.com/event/yoga-beginner-class-with-akhilesh-2023-12-15/
LOCATION:Zoom meeting\, Link will be sent before the session
ATTACH;FMTTYPE=image/png:https://staging.mindbodism.com/wp-content/uploads/2023/11/yoga.png
ORGANIZER;CN="Mindbodism":MAILTO:hello@staging.mindbodism.com
END:VEVENT
BEGIN:VEVENT
DTSTART;TZID=Europe/London:20240131T180000
DTEND;TZID=Europe/London:20240131T190000
DTSTAMP:20260425T195947
CREATED:20231129T101713Z
LAST-MODIFIED:20240131T103932Z
UID:10000063-1706724000-1706727600@staging.mindbodism.com
SUMMARY:VIRTUAL: Ballet Barre with Natalia- Ballet Grace
DESCRIPTION:  \nTRAIN LIKE A BALLERINA \nBallet-Inspired Workouts to sculpt an elegant’s dancer physique \n  \n \nBallet Grace is a ballet-inspired fitness method created by professional ballerina Natalia Xylouri. At the heart of Ballet Grace is Natalia’s professional expertise which provides the method with an authenticity and grace that is unrivalled by barre workouts. Natalia seeks to share the artistry and athleticism of ballet with a graceful and transformative workout that everyone can do.\nInspired by a dancer’s daily training\, every exercise and stretch in Ballet Grace is designed to build strength\, flexibility and grace. Targeted toning\, barre and cardio exercises sculpt long\, lean and powerful ballet muscles in the legs\, derriere\, core\, and upper body. The method focuses on the exquisite grace\, beauty and strength that are the essence of a ballerina’s form. Dance experience is not required. \nSESSION PRICE: £12-18 / FREE for LSEG Employees \nHOW TO BOOK A SESSION? \nFor LSEG Employees Just RSVP \nFor Others buy a Class Pass \nAny issues please email at hello@staging.mindbodism.com \n  \n 
URL:https://staging.mindbodism.com/event/ballet-barre-with-natalia-ballet-grace-4-2023-12-21/
LOCATION:Zoom meeting\, Link will be sent before the session
ATTACH;FMTTYPE=image/png:https://staging.mindbodism.com/wp-content/uploads/2017/06/Screen-Shot-2021-04-12-at-10.25.41.png
END:VEVENT
BEGIN:VEVENT
DTSTART;TZID=Europe/London:20231216T090000
DTEND;TZID=Europe/London:20231216T100000
DTSTAMP:20260425T195947
CREATED:20231127T002247Z
LAST-MODIFIED:20231204T174245Z
UID:10000046-1702717200-1702720800@staging.mindbodism.com
SUMMARY:VIRTUAL: Ballet Barre with Natalia- Ballet Grace
DESCRIPTION:  \nTRAIN LIKE A BALLERINA \nBallet-Inspired Workouts to sculpt an elegant’s dancer physique \n  \n \nBallet Grace is a ballet-inspired fitness method created by professional ballerina Natalia Xylouri. At the heart of Ballet Grace is Natalia’s professional expertise which provides the method with an authenticity and grace that is unrivalled by barre workouts. Natalia seeks to share the artistry and athleticism of ballet with a graceful and transformative workout that everyone can do.\nInspired by a dancer’s daily training\, every exercise and stretch in Ballet Grace is designed to build strength\, flexibility and grace. Targeted toning\, barre and cardio exercises sculpt long\, lean and powerful ballet muscles in the legs\, derriere\, core\, and upper body. The method focuses on the exquisite grace\, beauty and strength that are the essence of a ballerina’s form. Dance experience is not required. \nSESSION PRICE: £12-18 / FREE for LSEG Employees \nHOW TO BOOK A SESSION? \nFor LSEG Employees Just RSVP \nFor Others buy a Class Pass \nAny issues please email at hello@staging.mindbodism.com \n  \n 
URL:https://staging.mindbodism.com/event/ballet-barre-with-natalia-ballet-grace/
LOCATION:Zoom meeting\, Link will be sent before the session
ATTACH;FMTTYPE=image/png:https://staging.mindbodism.com/wp-content/uploads/2017/06/Screen-Shot-2021-04-12-at-10.25.41.png
END:VEVENT
BEGIN:VEVENT
DTSTART;TZID=Europe/London:20231214T180000
DTEND;TZID=Europe/London:20231214T190000
DTSTAMP:20260425T195947
CREATED:20231129T101713Z
LAST-MODIFIED:20231204T174015Z
UID:10000062-1702576800-1702580400@staging.mindbodism.com
SUMMARY:VIRTUAL: Ballet Barre with Natalia- Ballet Grace
DESCRIPTION:  \nTRAIN LIKE A BALLERINA \nBallet-Inspired Workouts to sculpt an elegant’s dancer physique \n  \n \nBallet Grace is a ballet-inspired fitness method created by professional ballerina Natalia Xylouri. At the heart of Ballet Grace is Natalia’s professional expertise which provides the method with an authenticity and grace that is unrivalled by barre workouts. Natalia seeks to share the artistry and athleticism of ballet with a graceful and transformative workout that everyone can do.\nInspired by a dancer’s daily training\, every exercise and stretch in Ballet Grace is designed to build strength\, flexibility and grace. Targeted toning\, barre and cardio exercises sculpt long\, lean and powerful ballet muscles in the legs\, derriere\, core\, and upper body. The method focuses on the exquisite grace\, beauty and strength that are the essence of a ballerina’s form. Dance experience is not required. \nSESSION PRICE: £12-18 / FREE for LSEG Employees \nHOW TO BOOK A SESSION? \nFor LSEG Employees Just RSVP \nFor Others buy a Class Pass \nAny issues please email at hello@staging.mindbodism.com \n  \n 
URL:https://staging.mindbodism.com/event/ballet-barre-with-natalia-ballet-grace-4-2023-12-14/
LOCATION:Zoom meeting\, Link will be sent before the session
ATTACH;FMTTYPE=image/png:https://staging.mindbodism.com/wp-content/uploads/2017/06/Screen-Shot-2021-04-12-at-10.25.41.png
END:VEVENT
BEGIN:VEVENT
DTSTART;TZID=Europe/London:20231209T090000
DTEND;TZID=Europe/London:20231209T100000
DTSTAMP:20260425T195947
CREATED:20231127T002247Z
LAST-MODIFIED:20231130T142432Z
UID:10000047-1702112400-1702116000@staging.mindbodism.com
SUMMARY:VIRTUAL: Ballet Barre with Natalia- Ballet Grace
DESCRIPTION:  \nTRAIN LIKE A BALLERINA \nBallet-Inspired Workouts to sculpt an elegant’s dancer physique \n  \n \nBallet Grace is a ballet-inspired fitness method created by professional ballerina Natalia Xylouri. At the heart of Ballet Grace is Natalia’s professional expertise which provides the method with an authenticity and grace that is unrivalled by barre workouts. Natalia seeks to share the artistry and athleticism of ballet with a graceful and transformative workout that everyone can do.\nInspired by a dancer’s daily training\, every exercise and stretch in Ballet Grace is designed to build strength\, flexibility and grace. Targeted toning\, barre and cardio exercises sculpt long\, lean and powerful ballet muscles in the legs\, derriere\, core\, and upper body. The method focuses on the exquisite grace\, beauty and strength that are the essence of a ballerina’s form. Dance experience is not required. \nSESSION PRICE: £12-18 / FREE for LSEG Employees \nHOW TO BOOK A SESSION? \nFor LSEG Employees Just RSVP \nFor Others buy a Class Pass \nAny issues please email at hello@staging.mindbodism.com \n  \n 
URL:https://staging.mindbodism.com/event/ballet-barre-with-natalia-ballet-grace-2/
LOCATION:Zoom meeting\, Link will be sent before the session
ATTACH;FMTTYPE=image/png:https://staging.mindbodism.com/wp-content/uploads/2017/06/Screen-Shot-2021-04-12-at-10.25.41.png
END:VEVENT
BEGIN:VEVENT
DTSTART;TZID=Europe/London:20231208T120000
DTEND;TZID=Europe/London:20231208T130000
DTSTAMP:20260425T195947
CREATED:20231127T002247Z
LAST-MODIFIED:20231130T142512Z
UID:10000037-1702036800-1702040400@staging.mindbodism.com
SUMMARY:VIRTUAL: Yoga Beginner Class with Akhilesh
DESCRIPTION:Join this Yoga Beginner Class to improve Posture and Flexibility. Your instructor for this class is Akhilesh Shailendra. \n  \nHOW TO BOOK? \nFor LSEG Employees just RSVP it is free \nAny issues please email hello@staging.mindbodism.com \n  \n  \n 
URL:https://staging.mindbodism.com/event/yoga-beginner-class-with-akhilesh-2023-12-08/
LOCATION:Zoom meeting\, Link will be sent before the session
ATTACH;FMTTYPE=image/png:https://staging.mindbodism.com/wp-content/uploads/2023/11/yoga.png
END:VEVENT
BEGIN:VEVENT
DTSTART;TZID=Europe/London:20231207T180000
DTEND;TZID=Europe/London:20231207T190000
DTSTAMP:20260425T195947
CREATED:20231129T101713Z
LAST-MODIFIED:20231130T142534Z
UID:10000061-1701972000-1701975600@staging.mindbodism.com
SUMMARY:VIRTUAL: Ballet Barre with Natalia- Ballet Grace
DESCRIPTION:  \nTRAIN LIKE A BALLERINA \nBallet-Inspired Workouts to sculpt an elegant’s dancer physique \n  \n \nBallet Grace is a ballet-inspired fitness method created by professional ballerina Natalia Xylouri. At the heart of Ballet Grace is Natalia’s professional expertise which provides the method with an authenticity and grace that is unrivalled by barre workouts. Natalia seeks to share the artistry and athleticism of ballet with a graceful and transformative workout that everyone can do.\nInspired by a dancer’s daily training\, every exercise and stretch in Ballet Grace is designed to build strength\, flexibility and grace. Targeted toning\, barre and cardio exercises sculpt long\, lean and powerful ballet muscles in the legs\, derriere\, core\, and upper body. The method focuses on the exquisite grace\, beauty and strength that are the essence of a ballerina’s form. Dance experience is not required. \nSESSION PRICE: £12-18 / FREE for LSEG Employees \nHOW TO BOOK A SESSION? \nFor LSEG Employees Just RSVP \nFor Others buy a Class Pass \nAny issues please email at hello@staging.mindbodism.com \n  \n 
URL:https://staging.mindbodism.com/event/ballet-barre-with-natalia-ballet-grace-4-2023-12-07/
LOCATION:Zoom meeting\, Link will be sent before the session
ATTACH;FMTTYPE=image/png:https://staging.mindbodism.com/wp-content/uploads/2017/06/Screen-Shot-2021-04-12-at-10.25.41.png
END:VEVENT
END:VCALENDAR